Workbook

Sheet UST Plan Check
B1: UST PLAN CHECK
V2: =TODAY() -> 45666
C3: PLAN CHECK TYPE | E3: UST Installation
C4: FACILITY NAME
C6: FACILITY ADDRESS
C7: AUTHORITY NUMBER | N7: FA NUMBER
C9: SCOPE OF WORK, SUMMARY
A10: Page No. | C10: GENERAL APPLICATION
E11: Service Request Updated
E12: Correct Fee Paid
E13: Contractor Information Complete on Application
E14: Contractor Signed Application
E15: Owner Information Complete
E16: Equipment List Completed
E17: Scope of Work Completed
E18: Application signed by Owner or Owner Signature Authority Form submitted
E19: Three sets of Plans submitted
E20: All subcontractors identified
B21: CERTIFICATION
E22: CSLB License is appropriate | U22: Exp:
E23: C61-D40 is valid only for calibration work if issued after January 18, 2001
T24: CSLB License Number:
E25: Hazardous Substance Removal Certification (required
E26: for installation and removal) | Q26: Exp:
E27: Active Worker's Compensation | Q27: Exp:
A29: The following MUST be conducted by a Qualified Installer: Installation of an underground storage tank and/or connected piping and completion of all work on the tank/piping manufacturer's installation checklist.
A30: Qualified Installers must possess or work under the direct and personal supervision of an individual physically present at the work site who possesses all of the following: A valid, current contractor's license issued by the Contractor's State License Board, a valid, current certificate of training from the manufacturer(s) of the component(s) being installed and a valid and current ICC UST Installation/Retrofitting certificate.
E31: ICC UST Installer/Retrofitter Certification Submitted
F32: Exp: | M32: Name:
F33: Exp: | M33: Name:
F34: Exp: | M34: Name:
F35: Exp: | M35: Name:
F36: Exp: | M36: Name:
F37: Exp: | M37: Name:
F38: Exp: | M38: Name:
A39: The following MUST be conducted by a Qualified Service Technician: All work related to UST leak detection monitoring equipment, (installation, repair, replacement, maintenance and calibration), Annual Monitoring Certification, Secondary Containment Testing (including initial testing of newly installed secondary containment systems).
A40: Qualified Service Technicians must possess or work under the direct and personal supervision of an individual physically present at the work site who possesses all of the following: CSLB license as defined by 23 CCR 2715 (i)(1) or a Tank Tester's license issued to the individual by SWRCB, valid UST ICC Service Technician certificate, valid and current certificate of training from the manufacturer(s) of the component(s) being tested, repaired, or serviced. In the event that no training or certification exists, the local agency may approve comparable alternate training or certification.
E41: ICC Service Technician Certification Submitted
F42: Exp: | M42: Name:
F43: Exp: | M43: Name:
...

Sheet Equipment and Monitoring
A1: UST Plan Check Equipment and Monitoring Plan
C2: =IF('UST Plan Check'!E4=0," ",'UST Plan Check'!E4) | AH2: Overfill Options:
AH3: Alert the transfer operator when the tank is 90 percent full by restricting the flow into the tank or triggering an audible and visual alarm; or
C4: =IF('UST Plan Check'!E6=0," ",'UST Plan Check'!E6) | AH4: Restrict delivery of flow to the tank at least 30 minutes before the tank overfills, provided the restriction occurs when the tank is filled to no more than 95 percent of capacity; and activate an audible alarm at least five minutes before the tank overfills; or
AH5: Provide positive shut off of flow to the tank when the tank is filled to no more than 95 percent of capacity; or,
B6: Tank(s) | AH6: Provide positive shut off of flow to the tank so that none of the fittings located on the top of the tank are exposed to product due to overfilling.
C7: Product | D7: Size | E7: System Type | F7: Manufacturer | G7: Part No. | H7: Approved for Use | I7: =IF(D14="vacuum","Secondary Containment Volume gal/tank"," ")
B8: Tank 1: | C8: =IF('UST Plan Check'!F132=0," ",'UST Plan Check'!F132) | D8: =IF('UST Plan Check'!I132=0," ",'UST Plan Check'!I132)
B9: Tank 2: | C9: =IF('UST Plan Check'!F134=0," ",'UST Plan Check'!F134) | D9: =IF('UST Plan Check'!I134=0," ",'UST Plan Check'!I134)
B10: Tank 3: | C10: =IF('UST Plan Check'!M132=0," ",'UST Plan Check'!M132) | D10: =IF('UST Plan Check'!P132=0," ",'UST Plan Check'!P132)
B11: Tank 4: | C11: =IF('UST Plan Check'!M134=0," ",'UST Plan Check'!M134) | D11: =IF('UST Plan Check'!P134=0," ",'UST Plan Check'!P134)
B12: Tank 5: | C12: =IF('UST Plan Check'!U132=0," ",'UST Plan Check'!U132) | D12: =IF('UST Plan Check'!X132=0," ",'UST Plan Check'!X132)
B13: Tank 6: | C13: =IF('UST Plan Check'!U134=0," ",'UST Plan Check'!U134) | D13: =IF('UST Plan Check'!X134=0," ",'UST Plan Check'!X134)
B14: Tank Monitoring Method
D15: Monitoring Method the same for all tanks?
B16: =IF(G15=0," ",IF(G15="Yes", " Comments:", IF(G15="No","Additional tank monitoring method(s), manufacturer(s) and part number(s) and, if applicable, secondary containment conversion factor below:")))
B20: Piping and Sump(s)
B21: Piping Information | D21: Size | F21: Manufacturer | G21: Part No. | H21: Approved for Use | I21: =IF(D28="vacuum","Secondary Containment Volume gal/ft"," ")
B22: Product Piping
B23: Vapor Return Piping
B24: Vent Piping
B25: Chase Piping
A26: add
A27: add
B28: Piping Monitoring Method
D29: Monitoring Method the same for all piping?
B30: =IF(G29=0," ",IF(G29="Yes", "Comments:", IF(G29="No","Additional piping monitoring method(s), manufacturer(s) part number(s), and if applicable, secondary containment conversion factor below:")))
B33: Sump Information | E33: Manufacturer | G33: Part No. | H33: Approved for Use | I33: =IF(D45="vacuum","Secondary Containment Volume gal/sump"," ")
B34: Turbine
B35: Flex Connector
B36: Line Leak Detector
B37: Penetration Fitting
B38: Penetration Fitting
B39: Piping Sump
B40: Fill Sump
B41: Vent Transition Sump
B42: Transition Sump
A43: add
A44: add
B45: Interstitial Monitoring of Sump
...

Sheet Inspection Worksheet
A3: Environmental
A4: Management
A5: Department
A6: Val F. Siebal, Director
A8: UST INSPECTION WORKSHEET
A9: Facility Name | D9: =IF('UST Plan Check'!E4=0," ",'UST Plan Check'!E4)
A10: Facility Address | D10: =IF('UST Plan Check'!E6=0," ",'UST Plan Check'!E6)
A11: ECD Authority Number | D11: =IF('UST Plan Check'!E7=0," ",'UST Plan Check'!E7) | I11: FA Number | J11: =IF('UST Plan Check'!P7=0," ",'UST Plan Check'!P7)
A13: Project Summary | D13: =IF('UST Plan Check'!E9=0," ",'UST Plan Check'!E9)
A14: Tank Set
D15: Tank #1 | F15: Tank #2 | H15: Tank #3 | J15: Tank #4 | L15: Tank #5 | N15: Tank #6 | Q15: Title 23, 2635 (a)(1)(3)
A16: Date | Q16: Before installation, the tank shall be tested for tightness at the installation site in accordance with the manufacturer's written guidelines. If there are no guidelines, the primary and secondary containment shall be tested for tightness with air pressure at not less than 3 pounds per square inch. In lieu of the above, an equivalent differential pressure test, expressued in inched of mercury vacuum, in the intersitial space of the secondary containment is acceptable. The pressure (or vacuum in the intersitial space) shall be maintained for a miniumum of 30 minutes to determine if the tank is tight. If the tank fails the tightness test, as evidenced by soap bubbles, or water droplets, installation shall be suspended unti the tank is replaced or repaired by a factory authorized repair service. Following repair or replacement, the tank shall pass a tightness test.
B17: Tank Manufacturer | D17: =IF('Equipment and Monitoring'!F8=0,"N/A",'Equipment and Monitoring'!F8) -> N/A | F17: =IF('Equipment and Monitoring'!F9=0,"N/A",'Equipment and Monitoring'!F9) -> N/A | H17: =IF('Equipment and Monitoring'!F10=0,"N/A",'Equipment and Monitoring'!F10) -> N/A | J17: =IF('Equipment and Monitoring'!F11=0,"N/A",'Equipment and Monitoring'!F11) -> N/A | L17: =IF('Equipment and Monitoring'!F12=0,"N/A",'Equipment and Monitoring'!F12) -> N/A | N17: =IF('Equipment and Monitoring'!F13=0,"N/A",'Equipment and Monitoring'!F13) -> N/A
B18: Monitoring Method | D18: =IF(D17="N/A","N/A",'Equipment and Monitoring'!$D$14) -> N/A | F18: =IF(F17="N/A","N/A",'Equipment and Monitoring'!$D$14) -> N/A | H18: =IF(H17="N/A","N/A",'Equipment and Monitoring'!$D$14) -> N/A | J18: =IF(J17="N/A","N/A",'Equipment and Monitoring'!$D$14) -> N/A | L18: =IF(L17="N/A","N/A",'Equipment and Monitoring'!$D$14) -> N/A | N18: =IF(N17="N/A","N/A",'Equipment and Monitoring'!$D$14) -> N/A
B19: Monitoring Equipment | D19: =IF(D18="N/A","N/A",'Equipment and Monitoring'!$G$14) -> N/A | F19: =IF(F18="N/A","N/A",'Equipment and Monitoring'!$G$14) -> N/A | H19: =IF(H18="N/A","N/A",'Equipment and Monitoring'!$G$14) -> N/A | J19: =IF(J18="N/A","N/A",'Equipment and Monitoring'!$G$14) -> N/A | L19: =IF(L18="N/A","N/A",'Equipment and Monitoring'!$G$14) -> N/A | N19: =IF(N18="N/A","N/A",'Equipment and Monitoring'!$G$14) -> N/A
A20: Contents | D20: =IF('UST Plan Check'!F132=0,"N/A",'UST Plan Check'!F132) -> N/A | F20: =IF('UST Plan Check'!F134=0,"N/A",'UST Plan Check'!F134) -> N/A | H20: =IF('UST Plan Check'!M132=0,"N/A",'UST Plan Check'!M132) -> N/A | J20: =IF('UST Plan Check'!M134=0,"N/A",'UST Plan Check'!M134) -> N/A | L20: =IF('UST Plan Check'!U132=0,"N/A",'UST Plan Check'!U132) -> N/A | N20: =IF('UST Plan Check'!U134=0,"N/A",'UST Plan Check'!U134) -> N/A
A21: Size in Gallons | D21: =IF('UST Plan Check'!I132=0,"N/A",'UST Plan Check'!I132) -> N/A | F21: =IF('UST Plan Check'!I134=0,"N/A",'UST Plan Check'!I134) -> N/A | H21: =IF('UST Plan Check'!P132=0,"N/A",'UST Plan Check'!P132) -> N/A | J21: =IF('UST Plan Check'!P134=0,"N/A ",'UST Plan Check'!P134) -> N/A | L21: =IF('UST Plan Check'!X132=0,"N/A",'UST Plan Check'!X132) -> N/A | N21: =IF('UST Plan Check'!X134=0,"N/A",'UST Plan Check'!X134) -> N/A
A22: Pre-Install Test | D22: Tanks shall be installed per manufacturer's installation instructions and guidelines.
A23: Test Type
A24: Initial Reading
A25: Final Reading
B26: Result
A27: Comments/Notes:
A44: Primary Piping | I44: Test | J44: 50-100 psi for one hour | Z44: Enter test parameters and length of time per manufacturer's testing requirements
J45: Follow manufacturer's installation testing requirements
J47: Additional product primary piping and retests
A48: Product Primary Piping | D48: =IF($D$20=0," ",$D$20) -> N/A | E48: =IF($F$20=0," ",$F$20) -> N/A | F48: =IF($H$20=0," ",$H$20) -> N/A | G48: =IF($J$20=0," ",$J$20) -> N/A | H48: =IF($L$20=0," ",$L$20) -> N/A | I48: =IF($N$20=0," ",$N$20) -> N/A | Q48: CCR Ti 23 2636: Design, Construction, Intsallation, Testing, and Monitoring Requirements for Piping
B49: Date | Q49: All new primary piping and secondary containment systems shall be tested for tightness after installation in accordance with manufacturer's guidelines. Primary pressurized piping shall be tested for tightness hydrostatically at 150 percent of design operating pressure or pneumatically at 110 percent of design operating pressure. If the calculated test pressure for pressurized piping is less than 40 psi, 40 psi shall be used as the test pressure. The pressure shall be maintained for a minimum of 30 minutes and all joints shall be soap tested. A failed test, as evidenced by the presence of bubbles, shall require appropriate repairs and retesting. If there are no manufacturer's guidelines, secondary containment systems shall be tested using an applicable method specified in an industry code or engineering standard. Suction piping and gravity flow piing which cannot be isolated from the tank shall be tested after installation in conjunction with an overfilled volumetric tank integrity test or other test method meeting the requirements of section 2643(f), if approved by the local agency.
B50: Beginnning Reading
B51: End Reading
C52: Result
J53: Additional vent primary piping and retests
A54: Vent Primary Piping | D54: =IF($D$20=0," ",$D$20) -> N/A | E54: =IF($F$20=0," ",$F$20) -> N/A | F54: =IF($H$20=0," ",$H$20) -> N/A | G54: =IF($J$20=0," ",$J$20) -> N/A | H54: =IF($L$20=0," ",$L$20) -> N/A | I54: =IF($N$20=0," ",$N$20) -> N/A
B55: Date
B56: Beginnning Reading
B57: End Reading
C58: Result | P58: Fail | Q58: Fail | R58: Fail | S58: Fail | T58: Fail | U58: Fail | V58: Fail | W58: Fail | X58: Fail
J59: Additional vapor return primary piping and retests
A60: Vapor Return Primary Piping | D60: =IF($D$20=0," ",IF($D$20="Diesel","N/A",$D$20)) -> N/A | E60: =IF($F$20=0," ",IF($F$20="Diesel","N/A",$F$20)) -> N/A | F60: =IF($H$20=0," ",IF($H$20="Diesel","N/A",$H$20)) -> N/A | G60: =IF($J$20=0," ",IF($J$20="Diesel","N/A",$J$20)) -> N/A | H60: =IF($L$20=0," ",IF($L$20="Diesel","N/A",$L$20)) -> N/A | I60: =IF($N$20=0," ",IF($N$20="Diesel","N/A",$N$20)) -> N/A
B61: Date
...

Sheet Inspection Report
A3: Environmental
A4: Management
A5: Department
A6: Val F. Siebal, Director
A8: UST INSPECTION REPORT
A9: Facility Name | D9: =IF('UST Plan Check'!E4=0," ",'UST Plan Check'!E4)
A10: Facility Address | D10: =IF('UST Plan Check'!E6=0," ",'UST Plan Check'!E6)
A11: ECD Authority Number | D11: =IF('UST Plan Check'!E7=0," ",'UST Plan Check'!E7) | I11: FA Number | J11: =IF('UST Plan Check'!P7=0," ",'UST Plan Check'!P7)
A13: Project Summary | D13: =IF('UST Plan Check'!E9=0," ",'UST Plan Check'!E9)
A14: Tank Set
D15: Tank #1 | F15: Tank #2 | H15: Tank #3 | J15: Tank #4 | L15: Tank #5 | N15: Tank #6
A16: Date | D16: =IF('Inspection Worksheet'!D16=0," ",'Inspection Worksheet'!D16) | F16: =IF('Inspection Worksheet'!F16=0," ",'Inspection Worksheet'!F16) | H16: =IF('Inspection Worksheet'!H16=0," ",'Inspection Worksheet'!H16) | J16: =IF('Inspection Worksheet'!J16=0," ",'Inspection Worksheet'!J16) | L16: =IF('Inspection Worksheet'!L16=0," ",'Inspection Worksheet'!L16) | N16: =IF('Inspection Worksheet'!N16=0," ",'Inspection Worksheet'!N16)
A17: Contents | D17: =IF('UST Plan Check'!F132=0," ",'UST Plan Check'!F132) | F17: =IF('UST Plan Check'!F134=0," ",'UST Plan Check'!F134) | H17: =IF('UST Plan Check'!M132=0," ",'UST Plan Check'!M132) | J17: =IF('UST Plan Check'!M134=0," ",'UST Plan Check'!M134) | L17: =IF('UST Plan Check'!U132=0," ",'UST Plan Check'!U132) | N17: =IF('UST Plan Check'!U134=0," ",'UST Plan Check'!U134)
A18: Size in Gallons | D18: =IF('UST Plan Check'!I132=0," ",'UST Plan Check'!I132) | F18: =IF('UST Plan Check'!I134=0," ",'UST Plan Check'!I134) | H18: =IF('UST Plan Check'!P132=0," ",'UST Plan Check'!P132) | J18: =IF('UST Plan Check'!P134=0," ",'UST Plan Check'!P134) | L18: =IF('UST Plan Check'!X132=0," ",'UST Plan Check'!X132) | N18: =IF('UST Plan Check'!X134=0," ",'UST Plan Check'!X134)
A19: Result | D19: =IF('Inspection Worksheet'!D26=0," ",'Inspection Worksheet'!D26) | F19: =IF('Inspection Worksheet'!F26=0," ",'Inspection Worksheet'!F26) | H19: =IF('Inspection Worksheet'!H26=0," ",'Inspection Worksheet'!H26) | J19: =IF('Inspection Worksheet'!J26=0," ",'Inspection Worksheet'!J26) | L19: =IF('Inspection Worksheet'!L26=0," ",'Inspection Worksheet'!L26) | N19: =IF('Inspection Worksheet'!N26=0," ",'Inspection Worksheet'!N26)
A20: Comments/Notes:
A35: Primary Piping Install/Repair Testing | I35: Test | J35: =IF('Inspection Worksheet'!J44=0," ",'Inspection Worksheet'!J44) -> 50-100 psi for one hour
J36: Follow manufacturer's installation testing requirements
J38: Additional product primary piping and retests
A39: Product Primary Piping | D39: =IF($D$17=0," ",$D$17) | E39: =IF($F$17=0," ",$F$17) | F39: =IF($H$17=0," ",$H$17) | G39: =IF($J$17=0," ",$J$17) | H39: =IF($L$17=0," ",$L$17) | I39: =IF($N$17=0," ",$N$17)
C40: Date | D40: =IF('Inspection Worksheet'!D49=0," ",'Inspection Worksheet'!D49) | E40: =IF('Inspection Worksheet'!E49=0," ",'Inspection Worksheet'!E49) | F40: =IF('Inspection Worksheet'!F49=0," ",'Inspection Worksheet'!F49) | G40: =IF('Inspection Worksheet'!G49=0," ",'Inspection Worksheet'!G49) | H40: =IF('Inspection Worksheet'!H49=0," ",'Inspection Worksheet'!H49) | I40: =IF('Inspection Worksheet'!I49=0," ",'Inspection Worksheet'!I49) | J40: =IF('Inspection Worksheet'!J49=0," ",'Inspection Worksheet'!J49) | K40: =IF('Inspection Worksheet'!K49=0," ",'Inspection Worksheet'!K49) | ... O40: =IF('Inspection Worksheet'!O49=0," ",'Inspection Worksheet'!O49)
C41: Result | D41: =IF('Inspection Worksheet'!D52=0," ",'Inspection Worksheet'!D52) | E41: =IF('Inspection Worksheet'!E52=0," ",'Inspection Worksheet'!E52) | F41: =IF('Inspection Worksheet'!F52=0," ",'Inspection Worksheet'!F52) | G41: =IF('Inspection Worksheet'!H52=0," ",'Inspection Worksheet'!H52) | H41: =IF('Inspection Worksheet'!H52=0," ",'Inspection Worksheet'!H52) | I41: =IF('Inspection Worksheet'!I52=0," ",'Inspection Worksheet'!I52) | J41: =IF('Inspection Worksheet'!J52=0," ",'Inspection Worksheet'!J52) | K41: =IF('Inspection Worksheet'!K52=0," ",'Inspection Worksheet'!K52) | L41: =IF('Inspection Worksheet'!L52=0," ",'Inspection Worksheet'!L52) | M41: =IF('Inspection Worksheet'!M52=0," ",'Inspection Worksheet'!M52) | N41: =IF('Inspection Worksheet'!N52=0," ",'Inspection Worksheet'!N52) | O41: =IF('Inspection Worksheet'!O52=0," ",'Inspection Worksheet'!O52)
J42: Additional vent primary piping and retests
A43: Vent Primary Piping | D43: =IF($D$17=0," ",$D$17) | E43: =IF($F$17=0," ",$F$17) | F43: =IF($H$17=0," ",$H$17) | G43: =IF($J$17=0," ",$J$17) | H43: =IF($L$17=0," ",$L$17) | I43: =IF($N$17=0," ",$N$17)
C44: Date | D44: =IF('Inspection Worksheet'!D55=0," ",'Inspection Worksheet'!D55) | E44: =IF('Inspection Worksheet'!E55=0," ",'Inspection Worksheet'!E55) | F44: =IF('Inspection Worksheet'!F55=0," ",'Inspection Worksheet'!F55) | G44: =IF('Inspection Worksheet'!G55=0," ",'Inspection Worksheet'!G55) | H44: =IF('Inspection Worksheet'!H55=0," ",'Inspection Worksheet'!H55) | I44: =IF('Inspection Worksheet'!I55=0," ",'Inspection Worksheet'!I55) | J44: =IF('Inspection Worksheet'!J55=0," ",'Inspection Worksheet'!J55) | K44: =IF('Inspection Worksheet'!K55=0," ",'Inspection Worksheet'!K55) | ... O44: =IF('Inspection Worksheet'!O55=0," ",'Inspection Worksheet'!O55)
C45: Result | D45: =IF('Inspection Worksheet'!D58=0," ",'Inspection Worksheet'!D58) | E45: =IF('Inspection Worksheet'!E58=0," ",'Inspection Worksheet'!E58) | F45: =IF('Inspection Worksheet'!F58=0," ",'Inspection Worksheet'!F58) | G45: =IF('Inspection Worksheet'!G58=0," ",'Inspection Worksheet'!G58) | H45: =IF('Inspection Worksheet'!H58=0," ",'Inspection Worksheet'!H58) | I45: =IF('Inspection Worksheet'!I58=0," ",'Inspection Worksheet'!I58) | J45: =IF('Inspection Worksheet'!J58=0," ",'Inspection Worksheet'!J58) | K45: =IF('Inspection Worksheet'!K58=0," ",'Inspection Worksheet'!K58) | ... O45: =IF('Inspection Worksheet'!O58=0," ",'Inspection Worksheet'!O58)
J46: Additional vapor return primary piping and retests
A47: Vapor Return Primary Piping | D47: =IF($D$17=0," ",$D$17) | E47: =IF($F$17=0," ",$F$17) | F47: =IF($H$17=0," ",$H$17) | G47: =IF($J$17=0," ",$J$17) | H47: =IF($L$17=0," ",$L$17) | I47: =IF($N$17=0," ",$N$17)
C48: Date | D48: =IF('Inspection Worksheet'!D61=0," ",'Inspection Worksheet'!D61) | E48: =IF('Inspection Worksheet'!E61=0," ",'Inspection Worksheet'!E61) | F48: =IF('Inspection Worksheet'!F61=0," ",'Inspection Worksheet'!F61) | G48: =IF('Inspection Worksheet'!G61=0," ",'Inspection Worksheet'!G61) | H48: =IF('Inspection Worksheet'!H61=0," ",'Inspection Worksheet'!H61) | I48: =IF('Inspection Worksheet'!I61=0," ",'Inspection Worksheet'!I61) | J48: =IF('Inspection Worksheet'!J61=0," ",'Inspection Worksheet'!J61) | K48: =IF('Inspection Worksheet'!K61=0," ",'Inspection Worksheet'!K61) | ... O48: =IF('Inspection Worksheet'!O61=0," ",'Inspection Worksheet'!O61)
C49: Result | D49: =IF('Inspection Worksheet'!D64=0," ",'Inspection Worksheet'!D64) | E49: =IF('Inspection Worksheet'!E64=0," ",'Inspection Worksheet'!E64) | F49: =IF('Inspection Worksheet'!F64=0," ",'Inspection Worksheet'!F64) | G49: =IF('Inspection Worksheet'!G64=0," ",'Inspection Worksheet'!G64) | H49: =IF('Inspection Worksheet'!H64=0," ",'Inspection Worksheet'!H64) | I49: =IF('Inspection Worksheet'!I64=0," ",'Inspection Worksheet'!I64) | J49: =IF('Inspection Worksheet'!J64=0," ",'Inspection Worksheet'!J64) | K49: =IF('Inspection Worksheet'!K64=0," ",'Inspection Worksheet'!K64) | ... O49: =IF('Inspection Worksheet'!O64=0," ",'Inspection Worksheet'!O64)
A51: Secondary Piping Installation/Repair Testing | I51: Test | J51: =IF('Inspection Worksheet'!J66=0," ",'Inspection Worksheet'!J66) -> 5-10 psi for one hour
J52: Follow manufacturer's installation testing requirements
J54: Additional product secondary piping and retests
A55: Product Secondary Piping | D55: =IF($D$17=0," ",$D$17) | E55: =IF($F$17=0," ",$F$17) | F55: =IF($H$17=0," ",$H$17) | G55: =IF($J$17=0," ",$J$17) | H55: =IF($L$17=0," ",$L$17) | I55: =IF($N$17=0," ",$N$17)
C56: Date | D56: =IF('Inspection Worksheet'!D70=0," ",'Inspection Worksheet'!D70) | E56: =IF('Inspection Worksheet'!E70=0," ",'Inspection Worksheet'!E70) | F56: =IF('Inspection Worksheet'!F70=0," ",'Inspection Worksheet'!F70) | G56: =IF('Inspection Worksheet'!G70=0," ",'Inspection Worksheet'!G70) | H56: =IF('Inspection Worksheet'!H70=0," ",'Inspection Worksheet'!H70) | I56: =IF('Inspection Worksheet'!I70=0," ",'Inspection Worksheet'!I70) | J56: =IF('Inspection Worksheet'!J70=0," ",'Inspection Worksheet'!J70) | K56: =IF('Inspection Worksheet'!K70=0," ",'Inspection Worksheet'!K70) | ... O56: =IF('Inspection Worksheet'!O70=0," ",'Inspection Worksheet'!O70)
C57: Result | D57: =IF('Inspection Worksheet'!D73=0," ",'Inspection Worksheet'!D73) | E57: =IF('Inspection Worksheet'!E73=0," ",'Inspection Worksheet'!E73) | F57: =IF('Inspection Worksheet'!F73=0," ",'Inspection Worksheet'!F73) | G57: =IF('Inspection Worksheet'!G73=0," ",'Inspection Worksheet'!G73) | H57: =IF('Inspection Worksheet'!H73=0," ",'Inspection Worksheet'!H73) | I57: =IF('Inspection Worksheet'!I73=0," ",'Inspection Worksheet'!I73) | J57: =IF('Inspection Worksheet'!J73=0," ",'Inspection Worksheet'!J73) | K57: =IF('Inspection Worksheet'!K73=0," ",'Inspection Worksheet'!K73) | ... O57: =IF('Inspection Worksheet'!O73=0," ",'Inspection Worksheet'!O73)
J58: Additional vent secondary piping and retests
A59: Vent Secondary Piping | D59: =IF($D$17=0," ",$D$17) | E59: =IF($F$17=0," ",$F$17) | F59: =IF($H$17=0," ",$H$17) | G59: =IF($J$17=0," ",$J$17) | H59: =IF($L$17=0," ",$L$17) | I59: =IF($N$17=0," ",$N$17)
A60: Date | D60: =IF('Inspection Worksheet'!D76=0," ",'Inspection Worksheet'!D76) | E60: =IF('Inspection Worksheet'!E76=0," ",'Inspection Worksheet'!E76) | F60: =IF('Inspection Worksheet'!F76=0," ",'Inspection Worksheet'!F76) | G60: =IF('Inspection Worksheet'!G76=0," ",'Inspection Worksheet'!G76) | H60: =IF('Inspection Worksheet'!H76=0," ",'Inspection Worksheet'!H76) | I60: =IF('Inspection Worksheet'!I76=0," ",'Inspection Worksheet'!I76) | J60: =IF('Inspection Worksheet'!J76=0," ",'Inspection Worksheet'!J76) | K60: =IF('Inspection Worksheet'!K76=0," ",'Inspection Worksheet'!K76) | ... O60: =IF('Inspection Worksheet'!O76=0," ",'Inspection Worksheet'!O76)
A61: Result | D61: =IF('Inspection Worksheet'!D79=0," ",'Inspection Worksheet'!D79) | E61: =IF('Inspection Worksheet'!E79=0," ",'Inspection Worksheet'!E79) | F61: =IF('Inspection Worksheet'!F79=0," ",'Inspection Worksheet'!F79) | G61: =IF('Inspection Worksheet'!G79=0," ",'Inspection Worksheet'!G79) | H61: =IF('Inspection Worksheet'!H79=0," ",'Inspection Worksheet'!H79) | I61: =IF('Inspection Worksheet'!I79=0," ",'Inspection Worksheet'!I79) | J61: =IF('Inspection Worksheet'!J79=0," ",'Inspection Worksheet'!J79) | K61: =IF('Inspection Worksheet'!K79=0," ",'Inspection Worksheet'!K79) | ... O61: =IF('Inspection Worksheet'!O79=0," ",'Inspection Worksheet'!O79)
...

Sheet UST Construction Summary
A3: Environmental
A4: Management
A5: Department
A6: Val F. Siebal, Director
A8: UST CONSTRUCTION SUMMARY
A9: Facility Name | D9: =IF('UST Plan Check'!E4=0," ",'UST Plan Check'!E4)
A10: Facility Address | D10: =IF('UST Plan Check'!E6=0," ",'UST Plan Check'!E6)
A11: ECD Authority Number | D11: =IF('UST Plan Check'!E7=0," ",'UST Plan Check'!E7) | I11: FA Number | J11: =IF('UST Plan Check'!P7=0," ",'UST Plan Check'!P7)
A13: Project Summary | D13: =IF('UST Plan Check'!E9=0," ",'UST Plan Check'!E9)
A15: Required Testing/Inspection | G15: Date Completed | L15: Comments
A16: Required Testing per Permit Application
C17: Tank Primary
C18: Tank Secondary
C19: Primary Piping
C20: Secondary Piping
C21: Sump Integrity
C22: Vent Integrity
C23: Transition Integrity
C24: Under Dispenser Integrity
C25: Intersitial Fill (per manufacturer's instructions)
C26: Overfill Containment
C27: Tank Tightness
C28: Piping Tightness
C29: Secondary Containment, after backfill
A30: Required Testing Report | G30: Date Completed | L30: Comments
C31: Enhanced Leak Detection (before initial delivery)
C32: Final Monitoring System Certification
C33: Detailed As-Built drawing including vacuum, pressure or hydrostically monitored zones.
A34: California Environmental Reporting System | G34: Date Completed | L34: Comments
A35: CERS Completed and Approved
C36: UST
C37: UST Certification of Installation/Modification
C38: HMP
A39: Sacramento County Environmental Compliance Department | G39: Date Completed | L39: Comments
C40: Inspection Notes/ Diagram Completed
C41: Classification Form
C42: HAPP
C43: Service Request Updated
C44: No Further Action Letter
C45: 6 Month Secondary Containment Testing
...

Sheet UST Removal Summary
A3: Environmental
A4: Management
A5: Department
A6: Val F. Siebal, Director
A8: UST REMOVAL SUMMARY
A9: Facility Name | E9: =IF('UST Plan Check'!E4=0," ",'UST Plan Check'!E4)
A10: Facility Address | E10: =IF('UST Plan Check'!E6=0," ",'UST Plan Check'!E6) | AE10: T
A11: ECD Authority Number | E11: =IF('UST Plan Check'!E7=0," ",'UST Plan Check'!E7) | J11: FA Number | K11: =IF('UST Plan Check'!P7=0," ",'UST Plan Check'!P7)
A13: Project Summary | D13: =IF('UST Plan Check'!E9=0," ",'UST Plan Check'!E9)
A15: Required per Permit Application | H15: Date Completed | M15: Comments
C16: Tank(s) Removed
C17: Tank(s) Cleaned
C18: Rinsate Manifest
C19: Tank Destruction Certificate
C20: Hazardous Waste Tank Closure Certification
C21: Sampling Under Tank (s)
E22: samples per tank
C23: Additional Sampling
C24: Sampling Under Dispenser
C25: Sampling Under Piping
C26: Chain of Custody
C27: Map of Sampling Location(s)
C28: Sampling Conclusion Form
A30: California Environmental Reporting System | H30: Date Completed | M30: Comments
A31: CERS Completed and Approved
C32: UST Submittal for Permanently Closed Tanks
C33: HMP
A34: Sacramento County Environmental Compliance Department | H34: Date Completed | M34: Comments
C35: HAPP - Status of Tank 02
C36: HAPP - Update PE Code(s) Status
C37: Service Request Updated
C38: No Further Action Letter
C39: Plans/Permit Submitted for Imaging

Sheet Drop Down Menu
A1: UST Plan Check Tab | B1: Equipment and Monitoring Tab | C1: Inspection Worksheet Tab | D1: Inspection Report Tab | E1: Summary Tab
A2: UST Installation
A3: UST Removal | B3: Vacuum
A4: Permanent Closure In Place (PCIP) | B4: Pressure | C4: Pass | D4: Pass
A5: UST Upgrade Including Piping | B5: Hydrostatic | C5: Fail | D5: Fail
A6: UST Upgrade Without Piping | B6: Dry | C6: N/A | D6: N/A
A7: UST Repair (storage tank, piping or monitoring system) | B7: N/A | D7: Yes | E7: Yes
A8: UST Repair or Replacement of Spill Container | B8: Yes | D8: No | E8: No
A9: N/A | B9: No | D9: N/A | E9: Incomplete
A10: Yes | B10: N/A | E10: N/A
A11: No | B11: Straight
A12: Incomplete | B12: Flapper
A13: A, General Engineering | B13: Alarm
A14: C-10, Electrical | B14: Alarm and Flapper
A15: C-34 Pipeline | B15: Electronic
A16: C-36 Plumbing | B16: Mechanical
A17: C-61(D-40) | B17: Inventory Only
A18: Hazardous Substances Removal | B18: Tank Monitoring
A19: SWRCB Tank Tester License | B19: Overfill
A20: Same as Previous
A23: Pressure
A24: Suction
A25: Gravity
