Workbook

Sheet UST Plan Check
B1: UST PLAN CHECK
V2: =TODAY() -> 45666
C3: PLAN CHECK TYPE | E3: UST Installation
C4: FACILITY NAME
C6: FACILITY ADDRESS
C7: AUTHORITY NUMBER | N7: FA NUMBER
C9: SCOPE OF WORK, SUMMARY
A10: Page No. | C10: GENERAL APPLICATION
E11: Service Request Updated
E12: Correct Fee Paid
E13: Contractor Information Complete on Application
E14: Contractor Signed Application
E15: Owner Information Complete
E16: Equipment List Completed
E17: Scope of Work Completed
E18: Application signed by Owner or Owner Signature Authority Form submitted
E19: Three sets of Plans submitted
E20: All subcontractors identified
B21: CERTIFICATION
E22: CSLB License is appropriate | U22: Exp:
E23: C61-D40 is valid only for calibration work if issued after January 18, 2001
T24: CSLB License Number:
E25: Hazardous Substance Removal Certification (required
E26: for installation and removal) | Q26: Exp:
E27: Active Worker's Compensation | Q27: Exp:
A29: The following MUST be conducted by a Qualified Installer: Installation of an underground storage tank and/or connected piping and completion of all work on the tank/piping manufacturer's installation checklist.
A30: Qualified Installers must possess or work under the direct and personal supervision of an individual physically present at the work site who possesses all of the following: A valid, current contractor's license issued by the Contractor's State License Board, a valid, current certificate of training from the manufacturer(s) of the component(s) being installed and a valid and current ICC UST Installation/Retrofitting certificate.
E31: ICC UST Installer/Retrofitter Certification Submitted
F32: Exp: | M32: Name:
F33: Exp: | M33: Name:
F34: Exp: | M34: Name:
F35: Exp: | M35: Name:
F36: Exp: | M36: Name:
F37: Exp: | M37: Name:
F38: Exp: | M38: Name:
A39: The following MUST be conducted by a Qualified Service Technician: All work related to UST leak detection monitoring equipment, (installation, repair, replacement, maintenance and calibration), Annual Monitoring Certification, Secondary Containment Testing (including initial testing of newly installed secondary containment systems).
A40: Qualified Service Technicians must possess or work under the direct and personal supervision of an individual physically present at the work site who possesses all of the following: CSLB license as defined by 23 CCR 2715 (i)(1) or a Tank Tester's license issued to the individual by SWRCB, valid UST ICC Service Technician certificate, valid and current certificate of training from the manufacturer(s) of the component(s) being tested, repaired, or serviced. In the event that no training or certification exists, the local agency may approve comparable alternate training or certification.
E41: ICC Service Technician Certification Submitted
F42: Exp: | M42: Name:
F43: Exp: | M43: Name:
F44: Exp: | M44: Name:
F45: Exp: | M45: Name:
F46: Exp: | M46: Name:
F47: Exp: | M47: Name:
F48: Exp: | M48: Name:
E50: Contractor License is appropriate | U50: Exp: | V50: =IF(M50="same as previous",V22," ")
E51: C61-D40 is valid only for calibration work if issued after January 18, 2001
T52: CSLB License Number: | U52: =IF(M50="Same as Previous",U24," ")
E53: Monitoring Equipment Manufacturer Certification Submitted
F54: Manufacturer:
F55: Exp: | M55: Name:
F56: Exp: | M56: Name:
F57: Exp: | M57: Name:
F58: Exp: | M58: Name:
F59: Exp: | M59: Name:
F60: Exp: | M60: Name:
F61: Exp: | M61: Name:
E62: Tank Manufacturer Training Certification Submitted
F63: Manufacturer:
F64: Exp: | M64: Name:
F65: Exp: | M65: Name:
F66: Exp: | M66: Name:
F67: Exp: | M67: Name:
F68: Exp: | M68: Name:
E69: Pipe Manufacturer Training Certification Submitted
F70: Manufacturer:
F71: Exp: | M71: Name:
F72: Exp: | M72: Name:
F73: Manufacturer:
F74: Exp: | M74: Name:
F75: Exp: | M75: Name:
F76: Manufacturer:
F77: Exp: | M77: Name:
F78: Exp: | M78: Name:
E79: Under Dispenser Containment Manufacturer Training Certification Submitted
F80: Manufacturer:
F81: Exp: | M81: Name:
F82: Exp: | M82: Name:
F83: Exp: | M83: Name:
F84: Exp: | M84: Name:
F85: Exp: | M85: Name:
E86: Containment Sump Manufacturer Training Certification Submitted
F87: Manufacturer:
F88: Exp: | M88: Name:
F89: Exp: | M89: Name:
F90: Exp: | M90: Name:
F91: Exp: | M91: Name:
F92: Exp: | M92: Name:
E93: Transition Sump (vent, etc.) Manufacturer Training Certification Submitted
F94: Manufacturer:
F95: Exp: | M95: Name:
F96: Exp: | M96: Name:
F97: Exp: | M97: Name:
F98: Exp: | M98: Name:
F99: Exp: | M99: Name:
E100: Spill Containment Manufacturer Training Certification Submitted
F101: Manufacturer:
F102: Exp: | M102: Name:
F103: Exp: | M103: Name:
F104: Exp: | M104: Name:
...

Sheet Equipment and Monitoring
A1: UST Plan Check Equipment and Monitoring Plan
C2: =IF('UST Plan Check'!E4=0," ",'UST Plan Check'!E4) | AH2: Overfill Options:
AH3: Alert the transfer operator when the tank is 90 percent full by restricting the flow into the tank or triggering an audible and visual alarm; or
C4: =IF('UST Plan Check'!E6=0," ",'UST Plan Check'!E6) | AH4: Restrict delivery of flow to the tank at least 30 minutes before the tank overfills, provided the restriction occurs when the tank is filled to no more than 95 percent of capacity; and activate an audible alarm at least five minutes before the tank overfills; or
AH5: Provide positive shut off of flow to the tank when the tank is filled to no more than 95 percent of capacity; or,
B6: Tank(s) | AH6: Provide positive shut off of flow to the tank so that none of the fittings located on the top of the tank are exposed to product due to overfilling.
C7: Product | D7: Size | E7: System Type | F7: Manufacturer | G7: Part No. | H7: Approved for Use | I7: =IF(D14="vacuum","Secondary Containment Volume gal/tank"," ")
B8: Tank 1: | C8: =IF('UST Plan Check'!F132=0," ",'UST Plan Check'!F132) | D8: =IF('UST Plan Check'!I132=0," ",'UST Plan Check'!I132)
B9: Tank 2: | C9: =IF('UST Plan Check'!F134=0," ",'UST Plan Check'!F134) | D9: =IF('UST Plan Check'!I134=0," ",'UST Plan Check'!I134)
B10: Tank 3: | C10: =IF('UST Plan Check'!M132=0," ",'UST Plan Check'!M132) | D10: =IF('UST Plan Check'!P132=0," ",'UST Plan Check'!P132)
B11: Tank 4: | C11: =IF('UST Plan Check'!M134=0," ",'UST Plan Check'!M134) | D11: =IF('UST Plan Check'!P134=0," ",'UST Plan Check'!P134)
B12: Tank 5: | C12: =IF('UST Plan Check'!U132=0," ",'UST Plan Check'!U132) | D12: =IF('UST Plan Check'!X132=0," ",'UST Plan Check'!X132)
B13: Tank 6: | C13: =IF('UST Plan Check'!U134=0," ",'UST Plan Check'!U134) | D13: =IF('UST Plan Check'!X134=0," ",'UST Plan Check'!X134)
B14: Tank Monitoring Method
D15: Monitoring Method the same for all tanks?
B16: =IF(G15=0," ",IF(G15="Yes", " Comments:", IF(G15="No","Additional tank monitoring method(s), manufacturer(s) and part number(s) and, if applicable, secondary containment conversion factor below:")))
B20: Piping and Sump(s)
B21: Piping Information | D21: Size | F21: Manufacturer | G21: Part No. | H21: Approved for Use | I21: =IF(D28="vacuum","Secondary Containment Volume gal/ft"," ")
B22: Product Piping
B23: Vapor Return Piping
B24: Vent Piping
B25: Chase Piping
A26: add
A27: add
B28: Piping Monitoring Method
D29: Monitoring Method the same for all piping?
B30: =IF(G29=0," ",IF(G29="Yes", "Comments:", IF(G29="No","Additional piping monitoring method(s), manufacturer(s) part number(s), and if applicable, secondary containment conversion factor below:")))
B33: Sump Information | E33: Manufacturer | G33: Part No. | H33: Approved for Use | I33: =IF(D45="vacuum","Secondary Containment Volume gal/sump"," ")
B34: Turbine
B35: Flex Connector
B36: Line Leak Detector
B37: Penetration Fitting
B38: Penetration Fitting
B39: Piping Sump
B40: Fill Sump
B41: Vent Transition Sump
B42: Transition Sump
A43: add
A44: add
B45: Interstitial Monitoring of Sump
B46: Piping in Sump Monitoring Method
D47: Monitoring Method the same for all sumps?
B48: =IF(G47=0," ",IF(G47="Yes", "Comments:", IF(G47="No","Additional piping monitoring method(s), manufacturer(s), part number(s), and if applicable, secondary containment conversion factor below:")))
B52: Under Dispenser Containment(s)
B53: Under Dispenser Containment (UDC) Information | E53: Manufacturer | G53: Part No. | H53: Approved for Use | I53: =IF(D56="vacuum","Secondary Containment Volume gal/sump"," ")
B54: Shear Valves
B55: UDC
B56: UDC Interstitial Monitoring Method
B57: Piping Monitoring Method in UDC
B59: Monitoring Method the same for all under dispenser containment?
B60: =IF(G59=0," ",IF(G59="Yes", "Comments:", IF(G59="No","Additional UDC monitoring method(s), manufacturer(s), part number(s), and if applicable, secondary containment conversion factor(s) below:")))
B64: Overfill/Spill Containment
B65: Overfill/Spill Containment Information | E65: Manufacturer | G65: Part No. | H65: Approved for Use
B66: Drop Tube
B67: Overfill Method
B68: Spill Containment & Lids | I68: Use:
B69: In Tank Probe
B71: Insert Diagrams or Layout Drawings Here

Sheet Inspection Worksheet
A3: Environmental
A4: Management
A5: Department
A6: Val F. Siebal, Director
A8: UST INSPECTION WORKSHEET
A9: Facility Name | D9: =IF('UST Plan Check'!E4=0," ",'UST Plan Check'!E4)
A10: Facility Address | D10: =IF('UST Plan Check'!E6=0," ",'UST Plan Check'!E6)
A11: ECD Authority Number | D11: =IF('UST Plan Check'!E7=0," ",'UST Plan Check'!E7) | I11: FA Number | J11: =IF('UST Plan Check'!P7=0," ",'UST Plan Check'!P7)
A13: Project Summary | D13: =IF('UST Plan Check'!E9=0," ",'UST Plan Check'!E9)
A14: Tank Set
D15: Tank #1 | F15: Tank #2 | H15: Tank #3 | J15: Tank #4 | L15: Tank #5 | N15: Tank #6 | Q15: Title 23, 2635 (a)(1)(3)
A16: Date | Q16: Before installation, the tank shall be tested for tightness at the installation site in accordance with the manufacturer's written guidelines. If there are no guidelines, the primary and secondary containment shall be tested for tightness with air pressure at not less than 3 pounds per square inch. In lieu of the above, an equivalent differential pressure test, expressued in inched of mercury vacuum, in the intersitial space of the secondary containment is acceptable. The pressure (or vacuum in the intersitial space) shall be maintained for a miniumum of 30 minutes to determine if the tank is tight. If the tank fails the tightness test, as evidenced by soap bubbles, or water droplets, installation shall be suspended unti the tank is replaced or repaired by a factory authorized repair service. Following repair or replacement, the tank shall pass a tightness test.
B17: Tank Manufacturer | D17: =IF('Equipment and Monitoring'!F8=0,"N/A",'Equipment and Monitoring'!F8) -> N/A | F17: =IF('Equipment and Monitoring'!F9=0,"N/A",'Equipment and Monitoring'!F9) -> N/A | H17: =IF('Equipment and Monitoring'!F10=0,"N/A",'Equipment and Monitoring'!F10) -> N/A | J17: =IF('Equipment and Monitoring'!F11=0,"N/A",'Equipment and Monitoring'!F11) -> N/A | L17: =IF('Equipment and Monitoring'!F12=0,"N/A",'Equipment and Monitoring'!F12) -> N/A | N17: =IF('Equipment and Monitoring'!F13=0,"N/A",'Equipment and Monitoring'!F13) -> N/A
B18: Monitoring Method | D18: =IF(D17="N/A","N/A",'Equipment and Monitoring'!$D$14) -> N/A | F18: =IF(F17="N/A","N/A",'Equipment and Monitoring'!$D$14) -> N/A | H18: =IF(H17="N/A","N/A",'Equipment and Monitoring'!$D$14) -> N/A | J18: =IF(J17="N/A","N/A",'Equipment and Monitoring'!$D$14) -> N/A | L18: =IF(L17="N/A","N/A",'Equipment and Monitoring'!$D$14) -> N/A | N18: =IF(N17="N/A","N/A",'Equipment and Monitoring'!$D$14) -> N/A
B19: Monitoring Equipment | D19: =IF(D18="N/A","N/A",'Equipment and Monitoring'!$G$14) -> N/A | F19: =IF(F18="N/A","N/A",'Equipment and Monitoring'!$G$14) -> N/A | H19: =IF(H18="N/A","N/A",'Equipment and Monitoring'!$G$14) -> N/A | J19: =IF(J18="N/A","N/A",'Equipment and Monitoring'!$G$14) -> N/A | L19: =IF(L18="N/A","N/A",'Equipment and Monitoring'!$G$14) -> N/A | N19: =IF(N18="N/A","N/A",'Equipment and Monitoring'!$G$14) -> N/A
A20: Contents | D20: =IF('UST Plan Check'!F132=0,"N/A",'UST Plan Check'!F132) -> N/A | F20: =IF('UST Plan Check'!F134=0,"N/A",'UST Plan Check'!F134) -> N/A | H20: =IF('UST Plan Check'!M132=0,"N/A",'UST Plan Check'!M132) -> N/A | J20: =IF('UST Plan Check'!M134=0,"N/A",'UST Plan Check'!M134) -> N/A | L20: =IF('UST Plan Check'!U132=0,"N/A",'UST Plan Check'!U132) -> N/A | N20: =IF('UST Plan Check'!U134=0,"N/A",'UST Plan Check'!U134) -> N/A
A21: Size in Gallons | D21: =IF('UST Plan Check'!I132=0,"N/A",'UST Plan Check'!I132) -> N/A | F21: =IF('UST Plan Check'!I134=0,"N/A",'UST Plan Check'!I134) -> N/A | H21: =IF('UST Plan Check'!P132=0,"N/A",'UST Plan Check'!P132) -> N/A | J21: =IF('UST Plan Check'!P134=0,"N/A ",'UST Plan Check'!P134) -> N/A | L21: =IF('UST Plan Check'!X132=0,"N/A",'UST Plan Check'!X132) -> N/A | N21: =IF('UST Plan Check'!X134=0,"N/A",'UST Plan Check'!X134) -> N/A
A22: Pre-Install Test | D22: Tanks shall be installed per manufacturer's installation instructions and guidelines.
A23: Test Type
A24: Initial Reading
A25: Final Reading
B26: Result
A27: Comments/Notes:
A44: Primary Piping | I44: Test | J44: 50-100 psi for one hour | Z44: Enter test parameters and length of time per manufacturer's testing requirements
J45: Follow manufacturer's installation testing requirements
J47: Additional product primary piping and retests
A48: Product Primary Piping | D48: =IF($D$20=0," ",$D$20) -> N/A | E48: =IF($F$20=0," ",$F$20) -> N/A | F48: =IF($H$20=0," ",$H$20) -> N/A | G48: =IF($J$20=0," ",$J$20) -> N/A | H48: =IF($L$20=0," ",$L$20) -> N/A | I48: =IF($N$20=0," ",$N$20) -> N/A | Q48: CCR Ti 23 2636: Design, Construction, Intsallation, Testing, and Monitoring Requirements for Piping
B49: Date | Q49: All new primary piping and secondary containment systems shall be tested for tightness after installation in accordance with manufacturer's guidelines. Primary pressurized piping shall be tested for tightness hydrostatically at 150 percent of design operating pressure or pneumatically at 110 percent of design operating pressure. If the calculated test pressure for pressurized piping is less than 40 psi, 40 psi shall be used as the test pressure. The pressure shall be maintained for a minimum of 30 minutes and all joints shall be soap tested. A failed test, as evidenced by the presence of bubbles, shall require appropriate repairs and retesting. If there are no manufacturer's guidelines, secondary containment systems shall be tested using an applicable method specified in an industry code or engineering standard. Suction piping and gravity flow piing which cannot be isolated from the tank shall be tested after installation in conjunction with an overfilled volumetric tank integrity test or other test method meeting the requirements of section 2643(f), if approved by the local agency.
B50: Beginnning Reading
B51: End Reading
C52: Result
J53: Additional vent primary piping and retests
A54: Vent Primary Piping | D54: =IF($D$20=0," ",$D$20) -> N/A | E54: =IF($F$20=0," ",$F$20) -> N/A | F54: =IF($H$20=0," ",$H$20) -> N/A | G54: =IF($J$20=0," ",$J$20) -> N/A | H54: =IF($L$20=0," ",$L$20) -> N/A | I54: =IF($N$20=0," ",$N$20) -> N/A
B55: Date
B56: Beginnning Reading
B57: End Reading
C58: Result | P58: Fail | Q58: Fail | R58: Fail | S58: Fail | T58: Fail | U58: Fail | V58: Fail | W58: Fail | X58: Fail
J59: Additional vapor return primary piping and retests
A60: Vapor Return Primary Piping | D60: =IF($D$20=0," ",IF($D$20="Diesel","N/A",$D$20)) -> N/A | E60: =IF($F$20=0," ",IF($F$20="Diesel","N/A",$F$20)) -> N/A | F60: =IF($H$20=0," ",IF($H$20="Diesel","N/A",$H$20)) -> N/A | G60: =IF($J$20=0," ",IF($J$20="Diesel","N/A",$J$20)) -> N/A | H60: =IF($L$20=0," ",IF($L$20="Diesel","N/A",$L$20)) -> N/A | I60: =IF($N$20=0," ",IF($N$20="Diesel","N/A",$N$20)) -> N/A
B61: Date
B62: Beginnning Reading
B63: End Reading
C64: Result | P64: Pass | Q64: Pass | R64: Pass | S64: Pass | T64: Pass | U64: Pass | V64: Pass | W64: Pass | X64: Pass
A66: Secondary Piping | I66: Test | J66: 5-10 psi for one hour
J67: Follow manufacturer's installation testing requirements
J68: Additional product secondary piping and retests
A69: Product Secondary Piping | D69: =IF($D$20=0," ",$D$20) -> N/A | E69: =IF($F$20=0," ",$F$20) -> N/A | F69: =IF($H$20=0," ",$H$20) -> N/A | G69: =IF($J$20=0," ",$J$20) -> N/A | H69: =IF($L$20=0," ",$L$20) -> N/A | I69: =IF($N$20=0," ",$N$20) -> N/A
B70: Date
B71: Beginnning Reading
B72: End Reading
C73: Result
J74: Additional vent secondary piping and retests
A75: Vent Secondary Piping | D75: =IF($D$20=0," ",$D$20) -> N/A | E75: =IF($F$20=0," ",$F$20) -> N/A | F75: =IF($H$20=0," ",$H$20) -> N/A | G75: =IF($J$20=0," ",$J$20) -> N/A | H75: =IF($L$20=0," ",$L$20) -> N/A | I75: =IF($N$20=0," ",$N$20) -> N/A
B76: Date
B77: Beginnning Reading
B78: End Reading
C79: Result
J80: Additional vapor return secondary piping and retests
A81: Vapor Return Secondary Piping | D81: =IF($D$20=0," ",IF($D$20="Diesel","N/A",$D$20)) -> N/A | E81: =IF($F$20=0," ",IF($F$20="Diesel","N/A",$F$20)) -> N/A | F81: =IF($H$20=0," ",IF($H$20="Diesel","N/A",$H$20)) -> N/A | G81: =IF($J$20=0," ",IF($J$20="Diesel","N/A",$J$20)) -> N/A | H81: =IF($L$20=0," ",IF($L$20="Diesel","N/A",$L$20)) -> N/A | I81: =IF($N$20=0," ",IF($N$20="Diesel","N/A",$N$20)) -> N/A
B82: Date
B83: Beginnning Reading
B84: End Reading
C85: Result
A87: Sumps, Turbine and Fill | I87: Test | J87: 5-10 psi for one hour
J88: Follow manufacturer's installation testing requirements
J89: Additional sumps and retesting
A90: Tubine Sump | D90: =IF($D$20=0," ",$D$20) -> N/A | E90: =IF($F$20=0," ",$F$20) -> N/A | F90: =IF($H$20=0," ",$H$20) -> N/A | G90: =IF($J$20=0," ",$J$20) -> N/A | H90: =IF($L$20=0," ",$L$20) -> N/A | I90: =IF($N$20=0," ",$N$20) -> N/A
B91: Date
B92: Beginnning Reading
B93: End Reading
C94: Result
A95: Fill Sump | D95: =IF($D$20=0," ",$D$20) -> N/A | E95: =IF($F$20=0," ",$F$20) -> N/A | F95: =IF($H$20=0," ",$H$20) -> N/A | G95: =IF($J$20=0," ",$J$20) -> N/A | H95: =IF($L$20=0," ",$L$20) -> N/A | I95: =IF($N$20=0," ",$N$20) -> N/A
B96: Date
B97: Beginnning Reading
B98: End Reading
C99: Result | P99: Fail | Q99: Fail | R99: Fail | S99: Fail | T99: Fail | U99: Fail | V99: Fail | W99: Fail | X99: Fail
A101: Transition, Vent Sump(s) | J101: Test: | K101: 5-10 psi for one hour
K102: Manufacturer's installation testing requirements
D104: Vent | F104: Transition
B105: Date
B106: Beginning Reading
B107: End Reading
C108: Result
A110: Under Dispenser Containment | J110: Test | K110: 5-10 psi for one hour
K111: Follow manufacturer's installation testing requirements
A113: Underdispenser Containment (UDC)
B114: Date
B115: Beginnning Reading
B116: End Reading
C117: Result | P117: Fail | Q117: Fail | R117: Fail | S117: Fail | T117: Fail | U117: Fail | V117: Fail | W117: Fail | X117: Fail

Sheet Inspection Report
A3: Environmental
A4: Management
A5: Department
A6: Val F. Siebal, Director
A8: UST INSPECTION REPORT
A9: Facility Name | D9: =IF('UST Plan Check'!E4=0," ",'UST Plan Check'!E4)
A10: Facility Address | D10: =IF('UST Plan Check'!E6=0," ",'UST Plan Check'!E6)
A11: ECD Authority Number | D11: =IF('UST Plan Check'!E7=0," ",'UST Plan Check'!E7) | I11: FA Number | J11: =IF('UST Plan Check'!P7=0," ",'UST Plan Check'!P7)
A13: Project Summary | D13: =IF('UST Plan Check'!E9=0," ",'UST Plan Check'!E9)
A14: Tank Set
D15: Tank #1 | F15: Tank #2 | H15: Tank #3 | J15: Tank #4 | L15: Tank #5 | N15: Tank #6
A16: Date | D16: =IF('Inspection Worksheet'!D16=0," ",'Inspection Worksheet'!D16) | F16: =IF('Inspection Worksheet'!F16=0," ",'Inspection Worksheet'!F16) | H16: =IF('Inspection Worksheet'!H16=0," ",'Inspection Worksheet'!H16) | J16: =IF('Inspection Worksheet'!J16=0," ",'Inspection Worksheet'!J16) | L16: =IF('Inspection Worksheet'!L16=0," ",'Inspection Worksheet'!L16) | N16: =IF('Inspection Worksheet'!N16=0," ",'Inspection Worksheet'!N16)
A17: Contents | D17: =IF('UST Plan Check'!F132=0," ",'UST Plan Check'!F132) | F17: =IF('UST Plan Check'!F134=0," ",'UST Plan Check'!F134) | H17: =IF('UST Plan Check'!M132=0," ",'UST Plan Check'!M132) | J17: =IF('UST Plan Check'!M134=0," ",'UST Plan Check'!M134) | L17: =IF('UST Plan Check'!U132=0," ",'UST Plan Check'!U132) | N17: =IF('UST Plan Check'!U134=0," ",'UST Plan Check'!U134)
A18: Size in Gallons | D18: =IF('UST Plan Check'!I132=0," ",'UST Plan Check'!I132) | F18: =IF('UST Plan Check'!I134=0," ",'UST Plan Check'!I134) | H18: =IF('UST Plan Check'!P132=0," ",'UST Plan Check'!P132) | J18: =IF('UST Plan Check'!P134=0," ",'UST Plan Check'!P134) | L18: =IF('UST Plan Check'!X132=0," ",'UST Plan Check'!X132) | N18: =IF('UST Plan Check'!X134=0," ",'UST Plan Check'!X134)
A19: Result | D19: =IF('Inspection Worksheet'!D26=0," ",'Inspection Worksheet'!D26) | F19: =IF('Inspection Worksheet'!F26=0," ",'Inspection Worksheet'!F26) | H19: =IF('Inspection Worksheet'!H26=0," ",'Inspection Worksheet'!H26) | J19: =IF('Inspection Worksheet'!J26=0," ",'Inspection Worksheet'!J26) | L19: =IF('Inspection Worksheet'!L26=0," ",'Inspection Worksheet'!L26) | N19: =IF('Inspection Worksheet'!N26=0," ",'Inspection Worksheet'!N26)
A20: Comments/Notes:
A35: Primary Piping Install/Repair Testing | I35: Test | J35: =IF('Inspection Worksheet'!J44=0," ",'Inspection Worksheet'!J44) -> 50-100 psi for one hour
J36: Follow manufacturer's installation testing requirements
J38: Additional product primary piping and retests
A39: Product Primary Piping | D39: =IF($D$17=0," ",$D$17) | E39: =IF($F$17=0," ",$F$17) | F39: =IF($H$17=0," ",$H$17) | G39: =IF($J$17=0," ",$J$17) | H39: =IF($L$17=0," ",$L$17) | I39: =IF($N$17=0," ",$N$17)
C40: Date | D40: =IF('Inspection Worksheet'!D49=0," ",'Inspection Worksheet'!D49) | E40: =IF('Inspection Worksheet'!E49=0," ",'Inspection Worksheet'!E49) | F40: =IF('Inspection Worksheet'!F49=0," ",'Inspection Worksheet'!F49) | G40: =IF('Inspection Worksheet'!G49=0," ",'Inspection Worksheet'!G49) | H40: =IF('Inspection Worksheet'!H49=0," ",'Inspection Worksheet'!H49) | I40: =IF('Inspection Worksheet'!I49=0," ",'Inspection Worksheet'!I49) | J40: =IF('Inspection Worksheet'!J49=0," ",'Inspection Worksheet'!J49) | K40: =IF('Inspection Worksheet'!K49=0," ",'Inspection Worksheet'!K49) | ... O40: =IF('Inspection Worksheet'!O49=0," ",'Inspection Worksheet'!O49)
C41: Result | D41: =IF('Inspection Worksheet'!D52=0," ",'Inspection Worksheet'!D52) | E41: =IF('Inspection Worksheet'!E52=0," ",'Inspection Worksheet'!E52) | F41: =IF('Inspection Worksheet'!F52=0," ",'Inspection Worksheet'!F52) | G41: =IF('Inspection Worksheet'!H52=0," ",'Inspection Worksheet'!H52) | H41: =IF('Inspection Worksheet'!H52=0," ",'Inspection Worksheet'!H52) | I41: =IF('Inspection Worksheet'!I52=0," ",'Inspection Worksheet'!I52) | J41: =IF('Inspection Worksheet'!J52=0," ",'Inspection Worksheet'!J52) | K41: =IF('Inspection Worksheet'!K52=0," ",'Inspection Worksheet'!K52) | L41: =IF('Inspection Worksheet'!L52=0," ",'Inspection Worksheet'!L52) | M41: =IF('Inspection Worksheet'!M52=0," ",'Inspection Worksheet'!M52) | N41: =IF('Inspection Worksheet'!N52=0," ",'Inspection Worksheet'!N52) | O41: =IF('Inspection Worksheet'!O52=0," ",'Inspection Worksheet'!O52)
J42: Additional vent primary piping and retests
A43: Vent Primary Piping | D43: =IF($D$17=0," ",$D$17) | E43: =IF($F$17=0," ",$F$17) | F43: =IF($H$17=0," ",$H$17) | G43: =IF($J$17=0," ",$J$17) | H43: =IF($L$17=0," ",$L$17) | I43: =IF($N$17=0," ",$N$17)
C44: Date | D44: =IF('Inspection Worksheet'!D55=0," ",'Inspection Worksheet'!D55) | E44: =IF('Inspection Worksheet'!E55=0," ",'Inspection Worksheet'!E55) | F44: =IF('Inspection Worksheet'!F55=0," ",'Inspection Worksheet'!F55) | G44: =IF('Inspection Worksheet'!G55=0," ",'Inspection Worksheet'!G55) | H44: =IF('Inspection Worksheet'!H55=0," ",'Inspection Worksheet'!H55) | I44: =IF('Inspection Worksheet'!I55=0," ",'Inspection Worksheet'!I55) | J44: =IF('Inspection Worksheet'!J55=0," ",'Inspection Worksheet'!J55) | K44: =IF('Inspection Worksheet'!K55=0," ",'Inspection Worksheet'!K55) | ... O44: =IF('Inspection Worksheet'!O55=0," ",'Inspection Worksheet'!O55)
C45: Result | D45: =IF('Inspection Worksheet'!D58=0," ",'Inspection Worksheet'!D58) | E45: =IF('Inspection Worksheet'!E58=0," ",'Inspection Worksheet'!E58) | F45: =IF('Inspection Worksheet'!F58=0," ",'Inspection Worksheet'!F58) | G45: =IF('Inspection Worksheet'!G58=0," ",'Inspection Worksheet'!G58) | H45: =IF('Inspection Worksheet'!H58=0," ",'Inspection Worksheet'!H58) | I45: =IF('Inspection Worksheet'!I58=0," ",'Inspection Worksheet'!I58) | J45: =IF('Inspection Worksheet'!J58=0," ",'Inspection Worksheet'!J58) | K45: =IF('Inspection Worksheet'!K58=0," ",'Inspection Worksheet'!K58) | ... O45: =IF('Inspection Worksheet'!O58=0," ",'Inspection Worksheet'!O58)
J46: Additional vapor return primary piping and retests
A47: Vapor Return Primary Piping | D47: =IF($D$17=0," ",$D$17) | E47: =IF($F$17=0," ",$F$17) | F47: =IF($H$17=0," ",$H$17) | G47: =IF($J$17=0," ",$J$17) | H47: =IF($L$17=0," ",$L$17) | I47: =IF($N$17=0," ",$N$17)
C48: Date | D48: =IF('Inspection Worksheet'!D61=0," ",'Inspection Worksheet'!D61) | E48: =IF('Inspection Worksheet'!E61=0," ",'Inspection Worksheet'!E61) | F48: =IF('Inspection Worksheet'!F61=0," ",'Inspection Worksheet'!F61) | G48: =IF('Inspection Worksheet'!G61=0," ",'Inspection Worksheet'!G61) | H48: =IF('Inspection Worksheet'!H61=0," ",'Inspection Worksheet'!H61) | I48: =IF('Inspection Worksheet'!I61=0," ",'Inspection Worksheet'!I61) | J48: =IF('Inspection Worksheet'!J61=0," ",'Inspection Worksheet'!J61) | K48: =IF('Inspection Worksheet'!K61=0," ",'Inspection Worksheet'!K61) | ... O48: =IF('Inspection Worksheet'!O61=0," ",'Inspection Worksheet'!O61)
C49: Result | D49: =IF('Inspection Worksheet'!D64=0," ",'Inspection Worksheet'!D64) | E49: =IF('Inspection Worksheet'!E64=0," ",'Inspection Worksheet'!E64) | F49: =IF('Inspection Worksheet'!F64=0," ",'Inspection Worksheet'!F64) | G49: =IF('Inspection Worksheet'!G64=0," ",'Inspection Worksheet'!G64) | H49: =IF('Inspection Worksheet'!H64=0," ",'Inspection Worksheet'!H64) | I49: =IF('Inspection Worksheet'!I64=0," ",'Inspection Worksheet'!I64) | J49: =IF('Inspection Worksheet'!J64=0," ",'Inspection Worksheet'!J64) | K49: =IF('Inspection Worksheet'!K64=0," ",'Inspection Worksheet'!K64) | ... O49: =IF('Inspection Worksheet'!O64=0," ",'Inspection Worksheet'!O64)
A51: Secondary Piping Installation/Repair Testing | I51: Test | J51: =IF('Inspection Worksheet'!J66=0," ",'Inspection Worksheet'!J66) -> 5-10 psi for one hour
J52: Follow manufacturer's installation testing requirements
J54: Additional product secondary piping and retests
A55: Product Secondary Piping | D55: =IF($D$17=0," ",$D$17) | E55: =IF($F$17=0," ",$F$17) | F55: =IF($H$17=0," ",$H$17) | G55: =IF($J$17=0," ",$J$17) | H55: =IF($L$17=0," ",$L$17) | I55: =IF($N$17=0," ",$N$17)
C56: Date | D56: =IF('Inspection Worksheet'!D70=0," ",'Inspection Worksheet'!D70) | E56: =IF('Inspection Worksheet'!E70=0," ",'Inspection Worksheet'!E70) | F56: =IF('Inspection Worksheet'!F70=0," ",'Inspection Worksheet'!F70) | G56: =IF('Inspection Worksheet'!G70=0," ",'Inspection Worksheet'!G70) | H56: =IF('Inspection Worksheet'!H70=0," ",'Inspection Worksheet'!H70) | I56: =IF('Inspection Worksheet'!I70=0," ",'Inspection Worksheet'!I70) | J56: =IF('Inspection Worksheet'!J70=0," ",'Inspection Worksheet'!J70) | K56: =IF('Inspection Worksheet'!K70=0," ",'Inspection Worksheet'!K70) | ... O56: =IF('Inspection Worksheet'!O70=0," ",'Inspection Worksheet'!O70)
C57: Result | D57: =IF('Inspection Worksheet'!D73=0," ",'Inspection Worksheet'!D73) | E57: =IF('Inspection Worksheet'!E73=0," ",'Inspection Worksheet'!E73) | F57: =IF('Inspection Worksheet'!F73=0," ",'Inspection Worksheet'!F73) | G57: =IF('Inspection Worksheet'!G73=0," ",'Inspection Worksheet'!G73) | H57: =IF('Inspection Worksheet'!H73=0," ",'Inspection Worksheet'!H73) | I57: =IF('Inspection Worksheet'!I73=0," ",'Inspection Worksheet'!I73) | J57: =IF('Inspection Worksheet'!J73=0," ",'Inspection Worksheet'!J73) | K57: =IF('Inspection Worksheet'!K73=0," ",'Inspection Worksheet'!K73) | ... O57: =IF('Inspection Worksheet'!O73=0," ",'Inspection Worksheet'!O73)
J58: Additional vent secondary piping and retests
A59: Vent Secondary Piping | D59: =IF($D$17=0," ",$D$17) | E59: =IF($F$17=0," ",$F$17) | F59: =IF($H$17=0," ",$H$17) | G59: =IF($J$17=0," ",$J$17) | H59: =IF($L$17=0," ",$L$17) | I59: =IF($N$17=0," ",$N$17)
A60: Date | D60: =IF('Inspection Worksheet'!D76=0," ",'Inspection Worksheet'!D76) | E60: =IF('Inspection Worksheet'!E76=0," ",'Inspection Worksheet'!E76) | F60: =IF('Inspection Worksheet'!F76=0," ",'Inspection Worksheet'!F76) | G60: =IF('Inspection Worksheet'!G76=0," ",'Inspection Worksheet'!G76) | H60: =IF('Inspection Worksheet'!H76=0," ",'Inspection Worksheet'!H76) | I60: =IF('Inspection Worksheet'!I76=0," ",'Inspection Worksheet'!I76) | J60: =IF('Inspection Worksheet'!J76=0," ",'Inspection Worksheet'!J76) | K60: =IF('Inspection Worksheet'!K76=0," ",'Inspection Worksheet'!K76) | ... O60: =IF('Inspection Worksheet'!O76=0," ",'Inspection Worksheet'!O76)
A61: Result | D61: =IF('Inspection Worksheet'!D79=0," ",'Inspection Worksheet'!D79) | E61: =IF('Inspection Worksheet'!E79=0," ",'Inspection Worksheet'!E79) | F61: =IF('Inspection Worksheet'!F79=0," ",'Inspection Worksheet'!F79) | G61: =IF('Inspection Worksheet'!G79=0," ",'Inspection Worksheet'!G79) | H61: =IF('Inspection Worksheet'!H79=0," ",'Inspection Worksheet'!H79) | I61: =IF('Inspection Worksheet'!I79=0," ",'Inspection Worksheet'!I79) | J61: =IF('Inspection Worksheet'!J79=0," ",'Inspection Worksheet'!J79) | K61: =IF('Inspection Worksheet'!K79=0," ",'Inspection Worksheet'!K79) | ... O61: =IF('Inspection Worksheet'!O79=0," ",'Inspection Worksheet'!O79)
J62: Additional vapor return secondary piping and retests
A63: Vapor Return Secondary Piping | D63: =IF($D$17=0," ",$D$17) | E63: =IF($F$17=0," ",$F$17) | F63: =IF($H$17=0," ",$H$17) | G63: =IF($J$17=0," ",$J$17) | H63: =IF($L$17=0," ",$L$17) | I63: =IF($N$17=0," ",$N$17)
B64: Date | D64: =IF('Inspection Worksheet'!D82=0," ",'Inspection Worksheet'!D82) | E64: =IF('Inspection Worksheet'!E82=0," ",'Inspection Worksheet'!E82) | F64: =IF('Inspection Worksheet'!F82=0," ",'Inspection Worksheet'!F82) | G64: =IF('Inspection Worksheet'!G82=0," ",'Inspection Worksheet'!G82) | H64: =IF('Inspection Worksheet'!H82=0," ",'Inspection Worksheet'!H82) | I64: =IF('Inspection Worksheet'!I82=0," ",'Inspection Worksheet'!I82) | J64: =IF('Inspection Worksheet'!J82=0," ",'Inspection Worksheet'!J82) | K64: =IF('Inspection Worksheet'!K82=0," ",'Inspection Worksheet'!K82) | ... O64: =IF('Inspection Worksheet'!O82=0," ",'Inspection Worksheet'!O82)
B65: Result | D65: =IF('Inspection Worksheet'!D85=0," ",'Inspection Worksheet'!D85) | E65: =IF('Inspection Worksheet'!E85=0," ",'Inspection Worksheet'!E85) | F65: =IF('Inspection Worksheet'!F85=0," ",'Inspection Worksheet'!F85) | G65: =IF('Inspection Worksheet'!G85=0," ",'Inspection Worksheet'!G85) | H65: =IF('Inspection Worksheet'!H85=0," ",'Inspection Worksheet'!H85) | I65: =IF('Inspection Worksheet'!I85=0," ",'Inspection Worksheet'!I85) | J65: =IF('Inspection Worksheet'!J85=0," ",'Inspection Worksheet'!J85) | K65: =IF('Inspection Worksheet'!K85=0," ",'Inspection Worksheet'!K85) | ... O65: =IF('Inspection Worksheet'!O85=0," ",'Inspection Worksheet'!O85)
A67: Tank Top Sump | I67: Test | J67: =IF('Inspection Worksheet'!J87=0," ",'Inspection Worksheet'!J87) -> 5-10 psi for one hour
J68: Follow manufacturer's installation testing requirements
J69: Additional sumps and retesting
A70: Tubine Sump | D70: =IF($D$17=0," ",$D$17) | E70: =IF($F$17=0," ",$F$17) | F70: =IF($H$17=0," ",$H$17) | G70: =IF($J$17=0," ",$J$17) | H70: =IF($L$17=0," ",$L$17) | I70: =IF($N$17=0," ",$N$17)
B71: Date | D71: =IF('Inspection Worksheet'!D91=0," ",'Inspection Worksheet'!D91) | E71: =IF('Inspection Worksheet'!E91=0," ",'Inspection Worksheet'!E91) | F71: =IF('Inspection Worksheet'!F91=0," ",'Inspection Worksheet'!F91) | G71: =IF('Inspection Worksheet'!G91=0," ",'Inspection Worksheet'!G91) | H71: =IF('Inspection Worksheet'!H91=0," ",'Inspection Worksheet'!H91) | I71: =IF('Inspection Worksheet'!I91=0," ",'Inspection Worksheet'!I91) | J71: =IF('Inspection Worksheet'!J91=0," ",'Inspection Worksheet'!J91) | K71: =IF('Inspection Worksheet'!K91=0," ",'Inspection Worksheet'!K91) | ... O71: =IF('Inspection Worksheet'!O91=0," ",'Inspection Worksheet'!O91)
C72: Result | D72: =IF('Inspection Worksheet'!D94=0," ",'Inspection Worksheet'!D94) | E72: =IF('Inspection Worksheet'!E94=0," ",'Inspection Worksheet'!E94) | F72: =IF('Inspection Worksheet'!F94=0," ",'Inspection Worksheet'!F94) | G72: =IF('Inspection Worksheet'!G94=0," ",'Inspection Worksheet'!G94) | H72: =IF('Inspection Worksheet'!H94=0," ",'Inspection Worksheet'!H94) | I72: =IF('Inspection Worksheet'!I94=0," ",'Inspection Worksheet'!I94) | J72: =IF('Inspection Worksheet'!J94=0," ",'Inspection Worksheet'!J94) | K72: =IF('Inspection Worksheet'!K94=0," ",'Inspection Worksheet'!K94) | ... O72: =IF('Inspection Worksheet'!O94=0," ",'Inspection Worksheet'!O94)
C73: Final Communication Test
C74: Result
A75: Fill Sump | D75: =IF($D$17=0," ",$D$17) | E75: =IF($F$17=0," ",$F$17) | F75: =IF($H$17=0," ",$H$17) | G75: =IF($J$17=0," ",$J$17) | H75: =IF($L$17=0," ",$L$17) | I75: =IF($N$17=0," ",$N$17)
B76: Date | D76: =IF('Inspection Worksheet'!D96=0," ",'Inspection Worksheet'!D96) | E76: =IF('Inspection Worksheet'!E96=0," ",'Inspection Worksheet'!E96) | F76: =IF('Inspection Worksheet'!F96=0," ",'Inspection Worksheet'!F96) | G76: =IF('Inspection Worksheet'!G96=0," ",'Inspection Worksheet'!G96) | H76: =IF('Inspection Worksheet'!H96=0," ",'Inspection Worksheet'!H96) | I76: =IF('Inspection Worksheet'!I96=0," ",'Inspection Worksheet'!I96) | J76: =IF('Inspection Worksheet'!J96=0," ",'Inspection Worksheet'!J96) | K76: =IF('Inspection Worksheet'!K96=0," ",'Inspection Worksheet'!K96) | ... O76: =IF('Inspection Worksheet'!O96=0," ",'Inspection Worksheet'!O96)
C77: Result | D77: =IF('Inspection Worksheet'!D99=0," ",'Inspection Worksheet'!D99) | E77: =IF('Inspection Worksheet'!E99=0," ",'Inspection Worksheet'!E99) | F77: =IF('Inspection Worksheet'!F99=0," ",'Inspection Worksheet'!F99) | G77: =IF('Inspection Worksheet'!G99=0," ",'Inspection Worksheet'!G99) | H77: =IF('Inspection Worksheet'!H99=0," ",'Inspection Worksheet'!H99) | I77: =IF('Inspection Worksheet'!I99=0," ",'Inspection Worksheet'!I99) | J77: =IF('Inspection Worksheet'!J99=0," ",'Inspection Worksheet'!J99) | K77: =IF('Inspection Worksheet'!K99=0," ",'Inspection Worksheet'!K99) | ... O77: =IF('Inspection Worksheet'!O99=0," ",'Inspection Worksheet'!O99)
C78: Final Communication Test
C79: Result
D81: Vent | F81: Transition | H81: Transition
B82: Date | D82: =IF('Inspection Worksheet'!D105=0," ",'Inspection Worksheet'!D105) | F82: =IF('Inspection Worksheet'!F105=0," ",'Inspection Worksheet'!F105) | H82: =IF('Inspection Worksheet'!H105=0," ",'Inspection Worksheet'!H105) | J82: =IF('Inspection Worksheet'!J105=0," ",'Inspection Worksheet'!J105) | L82: =IF('Inspection Worksheet'!L105=0," ",'Inspection Worksheet'!L105) | N82: =IF('Inspection Worksheet'!N105=0," ",'Inspection Worksheet'!N105)
C83: Result | D83: =IF('Inspection Worksheet'!D108=0," ",'Inspection Worksheet'!D108) | F83: =IF('Inspection Worksheet'!F108=0," ",'Inspection Worksheet'!F108) | H83: =IF('Inspection Worksheet'!H108=0," ",'Inspection Worksheet'!H108) | J83: =IF('Inspection Worksheet'!J108=0," ",'Inspection Worksheet'!J108) | L83: =IF('Inspection Worksheet'!L108=0," ",'Inspection Worksheet'!L108) | N83: =IF('Inspection Worksheet'!N108=0," ",'Inspection Worksheet'!N108)
A84: Final Communication Test
C85: Result
A87: Under Dispenser Containment | J87: Test | K87: =IF('Inspection Worksheet'!K110=0," ",'Inspection Worksheet'!K110) -> 5-10 psi for one hour
K88: Follow manufacturer's installation testing requirements
A90: Underdispenser Containment (UDC) | D90: 1/2 | E90: 3/4 | F90: 5/6 | G90: 7/8 | H90: 9/10 | I90: 11/12 | J90: 13/14 | K90: 15/16 | L90: 17/18 | M90: 19/20 | N90: 21/22 | O90: 23/24
B91: Date | D91: =IF('Inspection Worksheet'!D114=0," ",'Inspection Worksheet'!D114) | E91: =IF('Inspection Worksheet'!E114=0," ",'Inspection Worksheet'!E114) | F91: =IF('Inspection Worksheet'!F114=0," ",'Inspection Worksheet'!F114) | G91: =IF('Inspection Worksheet'!G114=0," ",'Inspection Worksheet'!G114) | H91: =IF('Inspection Worksheet'!H114=0," ",'Inspection Worksheet'!H114) | I91: =IF('Inspection Worksheet'!I114=0," ",'Inspection Worksheet'!I114) | J91: =IF('Inspection Worksheet'!J114=0," ",'Inspection Worksheet'!J114) | K91: =IF('Inspection Worksheet'!K114=0," ",'Inspection Worksheet'!K114) | ... O91: =IF('Inspection Worksheet'!O114=0," ",'Inspection Worksheet'!O114)
B92: Result | D92: =IF('Inspection Worksheet'!D117=0," ",'Inspection Worksheet'!D117) | E92: =IF('Inspection Worksheet'!E117=0," ",'Inspection Worksheet'!E117) | F92: =IF('Inspection Worksheet'!F117=0," ",'Inspection Worksheet'!F117) | G92: =IF('Inspection Worksheet'!G117=0," ",'Inspection Worksheet'!G117) | H92: =IF('Inspection Worksheet'!H117=0," ",'Inspection Worksheet'!H117) | I92: =IF('Inspection Worksheet'!I117=0," ",'Inspection Worksheet'!I117) | J92: =IF('Inspection Worksheet'!J117=0," ",'Inspection Worksheet'!J117) | K92: =IF('Inspection Worksheet'!K117=0," ",'Inspection Worksheet'!K117) | ... O92: =IF('Inspection Worksheet'!O117=0," ",'Inspection Worksheet'!O117)
A93: Final Communication Test
C94: Result
A96: Misc.
A97: Hydrostatic Fluid labeled | G97: q Yes | H97: q No | I97: q N/A
A98: Vacuum Hoses Long Enough to Allow Sensors to Surface | G98: q Yes | H98: q No | I98: q N/A
A99: Proper filling of hydrostatically monitored annular space(s) (per manufacturer's instructions) | G99: q Yes | H99: q No | I99: q N/A
A100: Hydrostatic Testing Port(s) Accessible | G100: q Yes | H100: q No | I100: q N/A
A101: Vacuum Testing Port(s) Accessible | G101: q Yes | H101: q No | I101: q N/A
A102: Positive Shutdown Verified | G102: q Yes | H102: q No | I102: q N/A
A103: Failsafe Verified | G103: q Yes | H103: q No | I103: q N/A
A104: Shear Valve(s) Installed | G104: q Yes | H104: q No | I104: q N/A
A105: Shear Valve Bracket(s) Tight | G105: q Yes | H105: q No | I105: q N/A
A106: Overfill Installed | G106: q Yes | H106: q No | I106: q N/A
A107: Emergency Shutoff(s) | G107: q Yes | H107: q No | I107: q N/A
A108: ISD Installed | G108: q Yes | H108: q No | I108: q N/A
... A110: Healy Clean Air Separator/OPW Vaporsaver | G110: q Yes | H110: q No | I110: q N/A
A111: Comments/Notes:
A126: Final Monitoring System Testing
D127: Date: | H127: Specialist:
A128: Tank | D128: =IF($D$17=0," ",$D$17) | F128: =IF($F$17=0," ",$F$17) | H128: =IF($H$17=0," ",$H$17) | J128: =IF($J$17=0," ",$J$17) | L128: =IF($L$17=0," ",$L$17) | N128: =IF($N$17=0," ",$N$17)
A129: Monitoring Method | D129: =IF('UST Plan Check'!$F$132=0," ",'Equipment and Monitoring'!$D$14) | F129: =IF('UST Plan Check'!$F$134=0," ",'Equipment and Monitoring'!$D$14) | H129: =IF('UST Plan Check'!$M$132=0," ",'Equipment and Monitoring'!$D$14) | J129: =IF('UST Plan Check'!$M$134=0," ",'Equipment and Monitoring'!$D$14) | L129: =IF('UST Plan Check'!$U$132=0," ",'Equipment and Monitoring'!$D$14) | N129: =IF('UST Plan Check'!$U$134=0," ",'Equipment and Monitoring'!$D$14)
A130: Annular Sensor, Part Number | D130: =IF('UST Plan Check'!$F$132=0," ",'Equipment and Monitoring'!$G$14) | F130: =IF('UST Plan Check'!$F$134=0," ",'Equipment and Monitoring'!$G$14) | H130: =IF('UST Plan Check'!$M$132=0," ",'Equipment and Monitoring'!$G$14) | J130: =IF('UST Plan Check'!$M$134=0," ",'Equipment and Monitoring'!$G$14) | L130: =IF('UST Plan Check'!$U$132=0," ",'Equipment and Monitoring'!$G$14) | N130: =IF('UST Plan Check'!$U$134=0," ",'Equipment and Monitoring'!$G$14)
A131: Result
A132: Piping (VPH) | D132: =IF($D$17=0," ",$D$17) | F132: =IF($F$17=0," ",$F$17) | H132: =IF($H$17=0," ",$H$17) | J132: =IF($J$17=0," ",$J$17) | L132: =IF($L$17=0," ",$L$17) | N132: =IF($N$17=0," ",$N$17)
A133: Monitoring Method | D133: =IF('UST Plan Check'!$F$132=0," ",'Equipment and Monitoring'!$D$28) | F133: =IF('UST Plan Check'!$F$134=0," ",'Equipment and Monitoring'!$D$28) | H133: =IF('UST Plan Check'!$M$132=0," ",'Equipment and Monitoring'!$D$28) | J133: =IF('UST Plan Check'!$M$134=0," ",'Equipment and Monitoring'!$D$28) | L133: =IF('UST Plan Check'!$U$132=0," ",'Equipment and Monitoring'!$D$28) | N133: =IF('UST Plan Check'!$U$132=0," ",'Equipment and Monitoring'!$D$28)
D134: =IF(D133="Vacuum", "See Vacuum Monitored Zone Table"," ")
A135: Product Piping Interstital Sensor, part number | D135: =IF(D133=" "," ",IF(D133="dry","N/A",IF(D133="N/A","N/A",'Equipment and Monitoring'!$F$28))) | F135: =IF(F133=" "," ",IF(F133="dry","N/A",IF(F133="N/A","N/A",'Equipment and Monitoring'!$F$28))) | H135: =IF(H133=" "," ",IF(H133="dry","N/A",IF(H133="N/A","N/A",'Equipment and Monitoring'!$F$28))) | J135: =IF(J133=" "," ",IF(J133="dry","N/A",IF(J133="N/A","N/A",'Equipment and Monitoring'!$F$28))) | L135: =IF(L133=" "," ",IF(L133="dry","N/A",IF(L133="N/A","N/A",'Equipment and Monitoring'!$F$28))) | N135: =IF(N133=" "," ",IF(N133="dry","N/A",IF(N133="N/A","N/A",'Equipment and Monitoring'!$F$28)))
D136: =IF(D133=" "," ",IF(D133="dry","N/A",IF(D133="N/A","N/A",'Equipment and Monitoring'!$G$28))) | F136: =IF(F133=" "," ",IF(F133="dry","N/A",IF(F133="N/A","N/A",'Equipment and Monitoring'!$G$28))) | H136: =IF(H133=" "," ",IF(H133="dry","N/A",IF(H133="N/A","N/A",'Equipment and Monitoring'!$G$28))) | J136: =IF(J133=" "," ",IF(J133="dry","N/A",IF(J133="N/A","N/A",'Equipment and Monitoring'!$G$28))) | L136: =IF(L133=" "," ",IF(L133="dry","N/A",IF(L133="N/A","N/A",'Equipment and Monitoring'!$G$28))) | N136: =IF(N133=" "," ",IF(N133="dry","N/A",IF(N133="N/A","N/A",'Equipment and Monitoring'!$G$28)))
A137: Result
A138: Vapor Return Piping Intersitial Sensor, part number | D138: =IF(D133=" "," ",IF(D133="dry","N/A",IF(D133="N/A","N/A",IF(D132="Diesel","N/A",'Equipment and Monitoring'!$F$28)))) | F138: =IF(F133=" "," ",IF(F133="dry","N/A",IF(F133="N/A","N/A",IF(F132="Diesel","N/A",'Equipment and Monitoring'!$F$28)))) | H138: =IF(H133=" "," ",IF(H133="dry","N/A",IF(H133="N/A","N/A",IF(H132="Diesel","N/A",'Equipment and Monitoring'!$F$28)))) | J138: =IF(J133=" "," ",IF(J133="dry","N/A",IF(J133="N/A","N/A",IF(J132="Diesel","N/A",'Equipment and Monitoring'!$F$28)))) | L138: =IF(L133=" "," ",IF(L133="dry","N/A",IF(L133="N/A","N/A",IF(L132="Diesel","N/A",'Equipment and Monitoring'!$F$28)))) | N138: =IF(N133=" "," ",IF(N133="dry","N/A",IF(N133="N/A","N/A",IF(N132="Diesel","N/A",'Equipment and Monitoring'!$F$28))))
D139: =IF(D133=" "," ",IF(D133="dry","N/A",IF(D133="N/A","N/A",IF(D132="Diesel","N/A",'Equipment and Monitoring'!$G$28)))) | F139: =IF(F133=" "," ",IF(F133="dry","N/A",IF(F133="N/A","N/A",IF(F132="Diesel","N/A",'Equipment and Monitoring'!$G$28)))) | H139: =IF(H133=" "," ",IF(H133="dry","N/A",IF(H133="N/A","N/A",IF(H132="Diesel","N/A",'Equipment and Monitoring'!$G$28)))) | J139: =IF(J133=" "," ",IF(J133="dry","N/A",IF(J133="N/A","N/A",IF(J132="Diesel","N/A",'Equipment and Monitoring'!$G$28)))) | L139: =IF(L133=" "," ",IF(L133="dry","N/A",IF(L133="N/A","N/A",IF(L132="Diesel","N/A",'Equipment and Monitoring'!$G$28)))) | N139: =IF(N133=" "," ",IF(N133="dry","N/A",IF(N133="N/A","N/A",IF(N132="Diesel","N/A",'Equipment and Monitoring'!$G$28))))
A140: Result
A141: Vent Piping Interstitial Sensor, part number | D141: =IF(D133=" "," ",IF(D133="dry","N/A",IF(D133="N/A","N/A",'Equipment and Monitoring'!$F$28))) | F141: =IF(F133=" "," ",IF(F133="dry","N/A",IF(F133="N/A","N/A",'Equipment and Monitoring'!$F$28))) | H141: =IF(H133=" "," ",IF(H133="dry","N/A",IF(H133="N/A","N/A",'Equipment and Monitoring'!$F$28))) | J141: =IF(J133=" "," ",IF(J133="dry","N/A",IF(J133="N/A","N/A",'Equipment and Monitoring'!$F$28))) | L141: =IF(L133=" "," ",IF(L133="dry","N/A",IF(L133="N/A","N/A",'Equipment and Monitoring'!$F$28))) | N141: =IF(N133=" "," ",IF(N133="dry","N/A",IF(N133="N/A","N/A",'Equipment and Monitoring'!$F$28)))
...

Sheet UST Construction Summary
A3: Environmental
A4: Management
A5: Department
A6: Val F. Siebal, Director
A8: UST CONSTRUCTION SUMMARY
A9: Facility Name | D9: =IF('UST Plan Check'!E4=0," ",'UST Plan Check'!E4)
A10: Facility Address | D10: =IF('UST Plan Check'!E6=0," ",'UST Plan Check'!E6)
A11: ECD Authority Number | D11: =IF('UST Plan Check'!E7=0," ",'UST Plan Check'!E7) | I11: FA Number | J11: =IF('UST Plan Check'!P7=0," ",'UST Plan Check'!P7)
A13: Project Summary | D13: =IF('UST Plan Check'!E9=0," ",'UST Plan Check'!E9)
A15: Required Testing/Inspection | G15: Date Completed | L15: Comments
A16: Required Testing per Permit Application
C17: Tank Primary
C18: Tank Secondary
C19: Primary Piping
C20: Secondary Piping
C21: Sump Integrity
C22: Vent Integrity
C23: Transition Integrity
C24: Under Dispenser Integrity
C25: Intersitial Fill (per manufacturer's instructions)
C26: Overfill Containment
C27: Tank Tightness
C28: Piping Tightness
C29: Secondary Containment, after backfill
A30: Required Testing Report | G30: Date Completed | L30: Comments
C31: Enhanced Leak Detection (before initial delivery)
C32: Final Monitoring System Certification
C33: Detailed As-Built drawing including vacuum, pressure or hydrostically monitored zones.
A34: California Environmental Reporting System | G34: Date Completed | L34: Comments
A35: CERS Completed and Approved
C36: UST
C37: UST Certification of Installation/Modification
C38: HMP
A39: Sacramento County Environmental Compliance Department | G39: Date Completed | L39: Comments
C40: Inspection Notes/ Diagram Completed
C41: Classification Form
C42: HAPP
C43: Service Request Updated
C44: No Further Action Letter
C45: 6 Month Secondary Containment Testing
C46: Operating Permit Issuance
C47: Plans/Permit Submitted for Imaging
C48: Completion of Final Inspection Letter

Sheet UST Removal Summary
A3: Environmental
A4: Management
A5: Department
A6: Val F. Siebal, Director
A8: UST REMOVAL SUMMARY
A9: Facility Name | E9: =IF('UST Plan Check'!E4=0," ",'UST Plan Check'!E4)
A10: Facility Address | E10: =IF('UST Plan Check'!E6=0," ",'UST Plan Check'!E6) | AE10: T
A11: ECD Authority Number | E11: =IF('UST Plan Check'!E7=0," ",'UST Plan Check'!E7) | J11: FA Number | K11: =IF('UST Plan Check'!P7=0," ",'UST Plan Check'!P7)
A13: Project Summary | D13: =IF('UST Plan Check'!E9=0," ",'UST Plan Check'!E9)
A15: Required per Permit Application | H15: Date Completed | M15: Comments
C16: Tank(s) Removed
C17: Tank(s) Cleaned
C18: Rinsate Manifest
C19: Tank Destruction Certificate
C20: Hazardous Waste Tank Closure Certification
C21: Sampling Under Tank (s)
E22: samples per tank
C23: Additional Sampling
C24: Sampling Under Dispenser
C25: Sampling Under Piping
C26: Chain of Custody
C27: Map of Sampling Location(s)
C28: Sampling Conclusion Form
A30: California Environmental Reporting System | H30: Date Completed | M30: Comments
A31: CERS Completed and Approved
C32: UST Submittal for Permanently Closed Tanks
C33: HMP
A34: Sacramento County Environmental Compliance Department | H34: Date Completed | M34: Comments
C35: HAPP - Status of Tank 02
C36: HAPP - Update PE Code(s) Status
C37: Service Request Updated
C38: No Further Action Letter
C39: Plans/Permit Submitted for Imaging

Sheet Drop Down Menu
A1: UST Plan Check Tab | B1: Equipment and Monitoring Tab | C1: Inspection Worksheet Tab | D1: Inspection Report Tab | E1: Summary Tab
A2: UST Installation
A3: UST Removal | B3: Vacuum
A4: Permanent Closure In Place (PCIP) | B4: Pressure | C4: Pass | D4: Pass
A5: UST Upgrade Including Piping | B5: Hydrostatic | C5: Fail | D5: Fail
A6: UST Upgrade Without Piping | B6: Dry | C6: N/A | D6: N/A
A7: UST Repair (storage tank, piping or monitoring system) | B7: N/A | D7: Yes | E7: Yes
A8: UST Repair or Replacement of Spill Container | B8: Yes | D8: No | E8: No
A9: N/A | B9: No | D9: N/A | E9: Incomplete
A10: Yes | B10: N/A | E10: N/A
A11: No | B11: Straight
A12: Incomplete | B12: Flapper
A13: A, General Engineering | B13: Alarm
A14: C-10, Electrical | B14: Alarm and Flapper
A15: C-34 Pipeline | B15: Electronic
A16: C-36 Plumbing | B16: Mechanical
A17: C-61(D-40) | B17: Inventory Only
A18: Hazardous Substances Removal | B18: Tank Monitoring
A19: SWRCB Tank Tester License | B19: Overfill
A20: Same as Previous
A23: Pressure
A24: Suction
A25: Gravity
